BEGIN:VCALENDAR
VERSION:2.0
PRODID:-//eventon.com NONSGML v1.0//EN
CALSCALE:GREGORIAN
METHOD:PUBLISH
BEGIN:VEVENT
UID:69e88d1e2c41e
DTSTAMP:20260422T085558Z
DTSTART:20220405T160000Z
DTEND:20220405T160000Z
LOCATION:Food Coop Thiemstraße 13
SUMMARY:Food Coop-Kennenlerntreffen
DESCRIPTION:Wir sind eine selbstverwaltete\,  nicht gewinnorientierte Koope
 rative und möchten ein nachhaltiges Konsumverhalten verwirklichen und för
 dern.Dadurch soll eine Alternative zum kapitalistisch geprägten Einzelhand
 el praktisch erprobt werden. In unserem Laden in der Thiemstraße können b
 iologische Lebensmittel und Non-Food-Artikel erworben werden. Schaut gern b
 eim Treffen vorbei und informiert euch über das Projekt! Aufgrund[..]
URL:https://magdeboogie.de/events/food-coop-kennenlerntreffen/
END:VEVENT
END:VCALENDAR