BEGIN:VCALENDAR
VERSION:2.0
PRODID:-//eventon.com NONSGML v1.0//EN
CALSCALE:GREGORIAN
METHOD:PUBLISH
BEGIN:VEVENT
UID:69e89030c9951
DTSTAMP:20260422T090904Z
DTSTART:20220409T180000Z
DTEND:20220409T215900Z
LOCATION:GrÃ¶ninger Bad Magdeburg - Aktion Musik e.V. GrÃ¶ninger Bad Magdeburg - Aktion Musik e.V.
SUMMARY:Kellergeister
DESCRIPTION:&gt;&gt;Das Konzert muss vom 19.03.2022 auf den 09.04.2022 vers
 choben werden! &gt;&gt;Die Karten behalten ihre GÃ¼ltigkeit. Personen\,  di
 e am neuen Termin nicht kÃ¶nnen\,  bekommen ihr Geld im GrÃ¶ninger Bad zurÃ
 ¼ck. Bitte vorab unter 0391 4015075 anrufen. Am Samstag den 09.04.2022 tret
 en ab 20:00 Uhr die Kellergeister im GrÃ¶ninger Bad auf. Die[..]
URL:https://magdeboogie.de/events/kellergeister/
END:VEVENT
END:VCALENDAR