BEGIN:VCALENDAR
VERSION:2.0
PRODID:-//eventon.com NONSGML v1.0//EN
CALSCALE:GREGORIAN
METHOD:PUBLISH
BEGIN:VEVENT
UID:69e7498b19a18
DTSTAMP:20260421T095523Z
DTSTART:20220416T210000Z
DTEND:20220417T060000Z
LOCATION:Insel der Jugend Insel der Jugend
SUMMARY:Alles zurück auf Tanzen !!
DESCRIPTION:Eine dicke Staubschicht liegt nicht nur auf den Plattentellern 
 und auf dem Bartresen\,  sondern auch auf den Seelen der schillernden Nacht
 gestalten. Doch es herrscht Aufbruchsstimmung! Es wird wieder Zeit den bela
 stenden Mantel der Monotonie von den Schultern zu schmeißen und das Tanzbe
 in zu schwingen. Am 16.04.22 öffnet die #Insel der[..]
URL:https://magdeboogie.de/events/alles-zurueck-auf-tanzen/
END:VEVENT
END:VCALENDAR