BEGIN:VCALENDAR
VERSION:2.0
PRODID:-//eventon.com NONSGML v1.0//EN
CALSCALE:GREGORIAN
METHOD:PUBLISH
BEGIN:VEVENT
UID:69e9edb4d369b
DTSTAMP:20260423T100020Z
DTSTART:20220423T180000Z
DTEND:20220423T210000Z
LOCATION:Volksbad Buckau Volksbad Buckau
SUMMARY:+++ ABGESAGT +++ Catherine Ashby & Brooksie Wells
DESCRIPTION:Als English Folk Americana Artist bezeichnet Catherine Ashby si
 ch selbst. Klingt verwirrend? Irgendwie schon\,  andererseits aber auch wie
 der nicht. Lauscht man nämlich ihrer Musik aufmerksam\,  und es lohnt sich
 \,  dies zu tun\,  so wird einem rasch klar\,  dass es überhaupt keine tre
 ffendere Beschreibung für diese Musik gibt.Die Folkmusik Englands bildet[.
 .]
URL:https://magdeboogie.de/events/catherine-ashby-brooksie-wells/
END:VEVENT
END:VCALENDAR