BEGIN:VCALENDAR
VERSION:2.0
PRODID:-//eventon.com NONSGML v1.0//EN
CALSCALE:GREGORIAN
METHOD:PUBLISH
BEGIN:VEVENT
UID:69e7348321bde
DTSTAMP:20260421T082539Z
DTSTART:20220415T150000Z
DTEND:20220415T170000Z
LOCATION:Thiembuktu Thiembuktu
SUMMARY:Kochfrei-Tag – Küche für Alle // Dinner for ONE? Dinner for ALL!
DESCRIPTION:🔷 english translation below 🔷 Kochfrei-Tag – Küche fü
 r Alle im Thiembuktu *** 04.03.2022 im Thiembuktu und jeden ersten und drit
 ten Freitag im Monat *** Alleine kochen und essen nach einer harten Woche g
 ehört in die Vergangenheit! Zusammen satt sind wir zusammen stark. Deshalb
  heißt es im Thiembuktu zweimal pro[..]
URL:https://magdeboogie.de/events/kochfrei-tag-kueche-fuer-alle-dinner-for-one-dinner-for-all-3/
END:VEVENT
END:VCALENDAR