BEGIN:VCALENDAR
VERSION:2.0
PRODID:-//eventon.com NONSGML v1.0//EN
CALSCALE:GREGORIAN
METHOD:PUBLISH
BEGIN:VEVENT
UID:69e88d19342ef
DTSTAMP:20260422T085553Z
DTSTART:20220408T080000Z
DTEND:20220408T180000Z
LOCATION:Jugendherberge Magdeburg Jugendherberge Magdeburg
SUMMARY:Trainer*in Geschlechtergerechtigkeit und Konfliktlösung in der Kinder- und Jugendhilfe
DESCRIPTION:Im Mittelpunkt dieser Fortbildungsreihe steht die Vermittlung v
 on Methodenkompetenz in den Bereichen geschlechtergerechter Konfliktlösung
  in der Elementarbildung\,  im Grundschulalter und mit Jugendlichen/jungen 
 Erwachsenen. Kennengelernt und erprobt werden die Selbststärkungsmethode A
 BBA und diverse Methoden zum Thema Grenzen\,  Deeskalations- und Antimobbin
 gstrategien sowie Anti-Bias-Methoden und Methoden der gewaltfreie Kommunika
 tion. Die theoretischen Grundlagen verorten[..]
URL:https://magdeboogie.de/events/trainerin-geschlechtergerechtigkeit-und-konfliktloesung-in-der-kinder-und-jugendhilfe/
END:VEVENT
END:VCALENDAR