BEGIN:VCALENDAR
VERSION:2.0
PRODID:-//eventon.com NONSGML v1.0//EN
CALSCALE:GREGORIAN
METHOD:PUBLISH
BEGIN:VEVENT
UID:69e760024603e
DTSTAMP:20260421T113114Z
DTSTART:20220430T210000Z
DTEND:20220501T060000Z
LOCATION:Kunstkantine Kunstkantine
SUMMARY:Kunstkantine x Roots
DESCRIPTION:ROOTS w/ Ivan Iacobucci\,  Nermo ¡! no text &#8211; its all ab
 out the music !¡ Line Up ∆ I V A N I A C O B U C C I|| Perlon || ∆ N E
  R M O|| Mondays: OFF | Budapest || ∆ S E B A S[..]
URL:https://magdeboogie.de/events/kunstkantine-x-roots/
END:VEVENT
END:VCALENDAR