BEGIN:VCALENDAR
VERSION:2.0
PRODID:-//eventon.com NONSGML v1.0//EN
CALSCALE:GREGORIAN
METHOD:PUBLISH
BEGIN:VEVENT
UID:69e88f914b48a
DTSTAMP:20260422T090625Z
DTSTART:20221104T190000Z
DTEND:20221104T230000Z
LOCATION:Factory Magdeburg Factory Magdeburg
SUMMARY:Finale SWM TalentVerstärker 2022
DESCRIPTION:Einlass: 19.00 Uhr Beginn: 20.00 Uhr Eintritt: 4\, - € / 3\, 
 - € für SWM Card Inhaber Teilnehmer: https://www.facebook.com/events/426
 878665931800/
URL:https://magdeboogie.de/events/finale-swm-talentverstaerker-2022/
END:VEVENT
END:VCALENDAR