BEGIN:VCALENDAR
VERSION:2.0
PRODID:-//eventon.com NONSGML v1.0//EN
CALSCALE:GREGORIAN
METHOD:PUBLISH
BEGIN:VEVENT
UID:69e748bccda20
DTSTAMP:20260421T095156Z
DTSTART:20221122T170000Z
DTEND:20221122T200000Z
LOCATION:Moritzhof Moritzhof
SUMMARY:KÃ¶nig hÃ¶rt auf - FILM & GESPRÃ„CH
DESCRIPTION:Lothar KÃ¶nig trÃ¤gt Ã¼ber dem rechten Auge eine riesige Narbe.
  Ein Neonazi hat den Jenaer Stadtjugendpfarrer einst bewusstlos geschlagen.
  Doch Lothar KÃ¶nig lieÃŸ sich nicht unterkriegen. Er engagierte sich gegen
  Rechtsradikale\,  fÃ¼r Jugendarbeit und Integration von AuslÃ¤ndern weit Ã
 ¼ber die Stadtgrenzen hinaus und wurde deutschlandweit bekannt. Sein Sohn T
 ilman KÃ¶nig[..]
URL:https://magdeboogie.de/events/koenig-hoert-auf-film-gespraech/
END:VEVENT
END:VCALENDAR