BEGIN:VCALENDAR
VERSION:2.0
PRODID:-//eventon.com NONSGML v1.0//EN
CALSCALE:GREGORIAN
METHOD:PUBLISH
BEGIN:VEVENT
UID:69e788544716d
DTSTAMP:20260421T142316Z
DTSTART:20221213T183000Z
DTEND:20221213T210000Z
LOCATION:Getränkefeinkost Magdeburg Stadtfeld Getränkefeinkost Magdeburg Stadtfeld
SUMMARY:Biertasting: Weihnachtsbiere
DESCRIPTION:Endlich geht es wieder los mit unseren Biertastings. Lasst euch
  in Weihnachtsstimmung versetzen und nehmt an unserem Weihnachtstasting tei
 l. Euch erwarten 6 unterschiedliche Weihnachtsbiere von zart bis hart. Dazu
  reichen wir euch Lebkuchen und Spekulatius. Teilnahmegebühr: 29\, 90 Euro
  Verschenken als Gutschein ist möglich! Anmeldung nur vorab in der Geträn
 kefeinkost Stadtfeld[..]
URL:https://magdeboogie.de/events/biertasting-weihnachtsbiere/
END:VEVENT
END:VCALENDAR