BEGIN:VCALENDAR
VERSION:2.0
PRODID:-//eventon.com NONSGML v1.0//EN
CALSCALE:GREGORIAN
METHOD:PUBLISH
BEGIN:VEVENT
UID:69e8b732ac86c
DTSTAMP:20260422T115530Z
DTSTART:20230415T180000Z
DTEND:20230415T210000Z
LOCATION:Altes Theater Magdeburg Altes Theater Magdeburg
SUMMARY:Thomas Kundt • Magdeburg • Was am Ende bleibt
DESCRIPTION:Live Tour 2023 Einlass: 19:00 Uhr Beginn: 20:00 Uhr Tickets gib
 t es ab sofort an allen bekannten VVK-Stellen und unter:https://thomaskundt
 .ticket.io https://www.facebook.com/events/760172245032555/
URL:https://magdeboogie.de/events/thomas-kundt-magdeburg-was-am-ende-bleibt/
END:VEVENT
END:VCALENDAR