BEGIN:VCALENDAR
VERSION:2.0
PRODID:-//eventon.com NONSGML v1.0//EN
CALSCALE:GREGORIAN
METHOD:PUBLISH
BEGIN:VEVENT
UID:69e8969c2ca8b
DTSTAMP:20260422T093628Z
DTSTART:20230219T100000Z
DTEND:20230219T130000Z
LOCATION:Theater Magdeburg Theater Magdeburg
SUMMARY:Premierenfieber zu „Ariadne auf Naxos“
DESCRIPTION:Premierenfieber zu „Ariadne auf Naxos“ von Richard StraussO
 pernhaus WagnerfoyerAb 14 JahrenEINTRITT FREI https://www.theater-magdeburg
 .de/inszenierungen/musiktheater/sz-20222023/premieren-2223/ariadne-auf-naxo
 s/?L=0 https://www.facebook.com/events/898153274510537/
URL:https://magdeboogie.de/events/premierenfieber-zu-ariadne-auf-naxos/
END:VEVENT
END:VCALENDAR