BEGIN:VCALENDAR
VERSION:2.0
PRODID:-//eventon.com NONSGML v1.0//EN
CALSCALE:GREGORIAN
METHOD:PUBLISH
BEGIN:VEVENT
UID:69e895ee3ad82
DTSTAMP:20260422T093334Z
DTSTART:20230116T180000Z
DTEND:20230116T210000Z
LOCATION:Forum Gestaltung Forum Gestaltung
SUMMARY:Gedenkkonzert anlässlich der Zerstörung Magdeburgs
DESCRIPTION:🕊 🎼 🎷 🪘 🎬 📖 GEDENKKONZERT zum Jahrestag der Z
 erstörung Magdeburgs im Zweiten Weltkrieg &#8222;Ein wahres Elend\,  der v
 erdammte Krieg&#8220; (Aristophanes) MITWarnfried Altmann (Saxophon) und He
 rmann Naehring (Schlagwerk)Mohamad Issa (Rezitation – Übertragung ins De
 utsche von Norbert Pohlmann)originalen Filmdokumenten und dokumentarischen 
 Texten Wir halten gemeinsam inne zum stillen Gedenken –[..]
URL:https://magdeboogie.de/events/gedenkkonzert-anlaesslich-der-zerstoerung-magdburgs/
END:VEVENT
END:VCALENDAR