BEGIN:VCALENDAR
VERSION:2.0
PRODID:-//eventon.com NONSGML v1.0//EN
CALSCALE:GREGORIAN
METHOD:PUBLISH
BEGIN:VEVENT
UID:69e61b4958e63
DTSTAMP:20260420T122545Z
DTSTART:20230225T140000Z
DTEND:20230225T153000Z
LOCATION:Gruson-Gewächshäuser Gruson-Gewächshäuser
SUMMARY:Führung: Die Gruson-Gewächshäuser zum Kennenlernen
DESCRIPTION:Unter Führung eines Mitarbeiters der Gewächshäuser begeben S
 ie sich auf einen Rundgang durch alle Schaugewächshäuser. Dabei erfahren 
 Sie Wissenswertes über die exotischen Pflanzen und Tiere\,  über die Gesc
 hichte der Gewächshäuser und aktuelle Besonderheiten. Führung + Eintritt
 : 4\, 50 €\,  ermäßigt 3\, 00 € Die Teilnehmerzahl ist begrenzt. Tick
 etreservierung unter Tel. 0391 404[..]
URL:https://magdeboogie.de/events/fuehrung-die-gruson-gewaechshaeuser-zum-kennenlernen-2/
END:VEVENT
END:VCALENDAR