BEGIN:VCALENDAR
VERSION:2.0
PRODID:-//eventon.com NONSGML v1.0//EN
CALSCALE:GREGORIAN
METHOD:PUBLISH
BEGIN:VEVENT
UID:69e88c9e46357
DTSTAMP:20260422T085350Z
DTSTART:20230210T180000Z
DTEND:20230210T210000Z
LOCATION:Factory Magdeburg Factory Magdeburg
SUMMARY:Tiefbasskommando • Magdeburg • Factory
DESCRIPTION:Tiefbasskommando10.02.23Magdeburg\,  FactoryTickets gibt´s ab 
 sofort unter: www.landstreicher-konzerte.de/Tickets-Tiefbasskommando-MD htt
 ps://www.facebook.com/events/527206209333854/
URL:https://magdeboogie.de/events/tiefbasskommando-magdeburg-factory/
END:VEVENT
END:VCALENDAR