BEGIN:VCALENDAR
VERSION:2.0
PRODID:-//eventon.com NONSGML v1.0//EN
CALSCALE:GREGORIAN
METHOD:PUBLISH
BEGIN:VEVENT
UID:69e4cf01f3235
DTSTAMP:20260419T124801Z
DTSTART:20230207T180000Z
DTEND:20230207T203000Z
LOCATION:Ernas Lebensmittelpunkt Ernas LebensMittelPunkt
SUMMARY:Familienduell 5 - Gameshowklassiker mit Emanuel
DESCRIPTION:Teamanmeldung (Team besteht aus 4 Personen): unverpackt@ernas-l
 ebensmittelpunkt.de Wir haben 100 Leute gefragt&#8230;.u.a. Nennen Sie ein 
 Gemüse\,  das sie als Kind nicht mochten. (Frage aus Ausgabe 2) Nach 4 Aus
 gaben im Cafe Central landet Familienduell 5 nun bei Frau Ernas loser Leben
 smittelpunkt. Wer sich zutraut die meist genannten Antworten zu finden[..]
URL:https://magdeboogie.de/events/familienduell-5-gameshowklassiker-mit-emanuel/
END:VEVENT
END:VCALENDAR