BEGIN:VCALENDAR
VERSION:2.0
PRODID:-//eventon.com NONSGML v1.0//EN
CALSCALE:GREGORIAN
METHOD:PUBLISH
BEGIN:VEVENT
UID:69e4c7419cc6e
DTSTAMP:20260419T121457Z
DTSTART:20230418T173000Z
DTEND:20230418T203000Z
LOCATION:Stadtbibliothek Magdeburg Stadtbibliothek Magdeburg
SUMMARY:Lesung Patrick Bahners
DESCRIPTION:Buchvorstellung mit dem AutorZehn Jahre AfD – aber unser Prob
 lem mit dem Nationalismus geht weit darüber hinaus.Scharfsinnig\,  klug un
 d historisch argumentierend zeigt Patrick Bahners\,  dass die Neue Rechte e
 inen festen Platz in unseren politischen Institutionen behaupten wird. Eine
  so tiefgreifende wie auch erzählerisch mitreißende Analyse\,  die aufzei
 gt\,  wie ein neuer[..]
URL:https://magdeboogie.de/events/lesung-patrick-bahners/
END:VEVENT
END:VCALENDAR