BEGIN:VCALENDAR
VERSION:2.0
PRODID:-//eventon.com NONSGML v1.0//EN
CALSCALE:GREGORIAN
METHOD:PUBLISH
BEGIN:VEVENT
UID:69e75ec768ee9
DTSTAMP:20260421T112559Z
DTSTART:20230220T190000Z
DTEND:20230220T220000Z
LOCATION:Forum Gestaltung Forum Gestaltung
SUMMARY:Jazz in der Kammer | Der dritte Stand
DESCRIPTION:BESETZUNG Matthias Bauer (Kontrabass)www.bauerbass.de Rudi Fisc
 herlehner (Schlagzeug)www.rudifischerlehner.net Matthias Müller (Posaune)w
 ww.matthiasmueller.net JAZZ IN DER KAMMER am 3. Montag im MonatMit freundli
 cher Unterstützung der Landeshauptstadt Magdeburg . . . . . . . . . . . . 
 . . . . . . . . . . . . . .[..]
URL:https://magdeboogie.de/events/jazz-in-der-kammer-der-dritte-stand/
END:VEVENT
END:VCALENDAR