BEGIN:VCALENDAR
VERSION:2.0
PRODID:-//eventon.com NONSGML v1.0//EN
CALSCALE:GREGORIAN
METHOD:PUBLISH
BEGIN:VEVENT
UID:69e7490697fb8
DTSTAMP:20260421T095310Z
DTSTART:20230324T190000Z
DTEND:20230324T225900Z
LOCATION:OLi-Kino Magdeburg OLi-Kino Magdeburg
SUMMARY:Music-Night – Rammstein
DESCRIPTION:Music-Night – Rammstein (Achtung: keine Tischplätze mehr)Ram
 mstein provozieren immer mal wieder und immer gerne. Über die Jahre haben 
 die martialischen Rocker aus Berlin alles erreicht\,  was man sich als Musi
 ker nur wünschen kann. Plattenverkäufe in Millionenhöhe sowie umjubelte 
 Tourneen rund um den Globus. Man kann es nicht leugnen: In manchen[..]
URL:https://magdeboogie.de/events/music-night-rammstein/
END:VEVENT
END:VCALENDAR