BEGIN:VCALENDAR
VERSION:2.0
PRODID:-//eventon.com NONSGML v1.0//EN
CALSCALE:GREGORIAN
METHOD:PUBLISH
BEGIN:VEVENT
UID:69e7632304c76
DTSTAMP:20260421T114435Z
DTSTART:20230318T160000Z
DTEND:20230318T190000Z
LOCATION:Literaturhaus Magdeburg Literaturhaus Magdeburg
SUMMARY:Marianne Immermann als Namenspatronin der Magdeburger Stadtbibliothek?
DESCRIPTION:Marianne Immermann\,  Clara Schumann\,  Fanny Hensel\,  Kathari
 na Diez und Elisabeth Grube – bedeutende und teilweise unbekannte Frauen 
 sind das Thema der Literaturdiskussion. Die Zuschauer sind eingeladen\,  mi
 tzudiskutieren. Wie war die Stellung der Frau zu dieser Zeit? Wie konnten s
 ie als Künstlerinnen bestehen und an die Öffentlichkeit kommen? Welche Sc
 hwierigkeiten hatten[..]
URL:https://magdeboogie.de/events/marianne-immermann-als-namenspatronin-der-magdeburger-stadtbibliothek/
END:VEVENT
END:VCALENDAR