BEGIN:VCALENDAR
VERSION:2.0
PRODID:-//eventon.com NONSGML v1.0//EN
CALSCALE:GREGORIAN
METHOD:PUBLISH
BEGIN:VEVENT
UID:69e8a1b995242
DTSTAMP:20260422T102353Z
DTSTART:20230419T180000Z
DTEND:20230419T180000Z
LOCATION:OLi-Kino Magdeburg OLi-Kino Magdeburg
SUMMARY:Vernissage: NUKAS
DESCRIPTION:Vernissage: NUKAS Seit 2015 kreiert NUKAS farbenfrohe Porträts
  in fluoreszierenden Acrylfarben auf großflächiger Leinwand. Sein Stil is
 t eine Mischung aus moderner Pop Art und Impressionismus\,  wobei er dem Ko
 ntrast- und Farbenspiel mehr Bedeutung schenkt als der Linie.Genießen Sie 
 einen Abend mit Carlo und seinen Bildern\,  Musik von Jan Sichting\,  Film[
 ..]
URL:https://magdeboogie.de/events/vernissage-nukas/
END:VEVENT
END:VCALENDAR