BEGIN:VCALENDAR
VERSION:2.0
PRODID:-//eventon.com NONSGML v1.0//EN
CALSCALE:GREGORIAN
METHOD:PUBLISH
BEGIN:VEVENT
UID:69e89fabadba2
DTSTAMP:20260422T101507Z
DTSTART:20230414T180000Z
DTEND:20230414T193000Z
LOCATION:Puppentheater Magdeburg Puppentheater Magdeburg
SUMMARY:RE-MEMBER
DESCRIPTION:von Ã‰lise Vigneron\,  Julika Mayer und Ensemble fÃ¼r Menschen 
 ab 16 DEUTSCHLANDPREMIERE:&nbsp;12.04.2023:&nbsp;FÃ¤den am Spielkreuz\,  FÃ
 ¤den gespannt zwischen oben und unten. Ein Ensemble spielt Theater. Aus dem
  Ungewissen verlorene FÃ¤den nimmt es auf und lÃ¤dt ein zu einer Spurensuch
 e nach dem&nbsp;Verbundensein*. NatÃ¼rliche Materialien\,  eine Schar histo
 rischer Marionetten aus dem Fundus des[..]
URL:https://magdeboogie.de/events/re-member-2/
END:VEVENT
END:VCALENDAR