BEGIN:VCALENDAR
VERSION:2.0
PRODID:-//eventon.com NONSGML v1.0//EN
CALSCALE:GREGORIAN
METHOD:PUBLISH
BEGIN:VEVENT
UID:69eb28bb7051b
DTSTAMP:20260424T082427Z
DTSTART:20240412T170000Z
DTEND:20240412T200000Z
LOCATION:Knast Magdeburg Knast Magdeburg
SUMMARY:FAHNENFLUCHT – Magdeburg\,  Knast
DESCRIPTION:FAHNENFLUCHT kommen zurück und gehen auf Tour! Im Frühjahr 20
 24 steigt die Band wieder in den Van und spielt 12 Shows quer durch die Rep
 ublik. Dabei besuchen sie auch einige Städte\,  in denen sie lange nicht m
 ehr oder sogar noch nie waren. Alle Infos zu Dates und Tickets findet ihr[.
 .]
URL:https://magdeboogie.de/events/fahnenflucht-magdeburg-knast/
END:VEVENT
END:VCALENDAR