BEGIN:VCALENDAR
VERSION:2.0
PRODID:-//eventon.com NONSGML v1.0//EN
CALSCALE:GREGORIAN
METHOD:PUBLISH
BEGIN:VEVENT
UID:69e75f5d76522
DTSTAMP:20260421T112829Z
DTSTART:20241026T173000Z
DTEND:20241026T203000Z
LOCATION:... nach Hengstmanns\,  politisch-satirisches KABARETT ... nach Hengstmanns\,  politisch-satirisches KABARETT
SUMMARY:T&T Wollner - Das Teutsche Volkslied
DESCRIPTION:Am Brunnen vor dem Tore\,  da steht ein Lindenbaum.Und genau do
 rt wird viel gesungen.Lindenbaum und Brunnen hören Lieder\,  die das Volk 
 singt und unterhalten sich darüber.Aber sie streiten auch.Warum z.B. diese
  Lieder nun Volkslieder genannt werden; warum so viele schöne Lieder einfa
 ch verschwinden und nicht einschlagen\,  um ein Schlager zu[..]
URL:https://magdeboogie.de/events/tt-wollner-das-teutsche-volkslied/
END:VEVENT
END:VCALENDAR