BEGIN:VCALENDAR
VERSION:2.0
PRODID:-//eventon.com NONSGML v1.0//EN
CALSCALE:GREGORIAN
METHOD:PUBLISH
BEGIN:VEVENT
UID:69e8ccd01a455
DTSTAMP:20260422T132744Z
DTSTART:20250221T190000Z
DTEND:20250221T210000Z
LOCATION:Moritzhof Moritzhof
SUMMARY:Jupiter Jones "Unplugged 3" ...KONZERT
DESCRIPTION:Aller guten Dinge sind dreieinhalb\,  das weißte ja. Was als u
 nschuldiges Plänchen einer einzelnen Unplugged-Tour mit viel zu langem Nam
 en im Spätsommer 2023 startete\,  dann mit einer beinahe überbordenden He
 rzlichkeit von euch aufgenommen und an so vielen Stellen ratzfatz ausverkau
 ft wurde\,  deswegen zu anderthalb Neuauflagen im Januar und Mai 2024[..]
URL:https://magdeboogie.de/events/jupiter-jones-unplugged-3-konzert/
END:VEVENT
END:VCALENDAR