BEGIN:VCALENDAR
VERSION:2.0
PRODID:-//eventon.com NONSGML v1.0//EN
CALSCALE:GREGORIAN
METHOD:PUBLISH
BEGIN:VEVENT
UID:69e89faa16fd1
DTSTAMP:20260422T101506Z
DTSTART:20241111T173000Z
DTEND:20241111T203000Z
LOCATION:Ernas Lebensmittelpunkt Ernas LebensMittelPunkt
SUMMARY:Spieleabend
DESCRIPTION:Wie jeden zweiten Montag im Monat findet heute unser großer Sp
 ieleAbend statt. Kommt vorbei und bringt Spielfreude\,  -freunde und vielle
 icht noch euer Lieblingsspiel mit &#8211; die Auswahl hier ist aber auch gr
 oß genug\,  um euch mehrere Stunden beschäftigt zu halten. Getränke und 
 Knabberzeug halten wir für euch bereit. An die[..]
URL:https://magdeboogie.de/events/spieleabend-18/
END:VEVENT
END:VCALENDAR