BEGIN:VCALENDAR
VERSION:2.0
PRODID:-//eventon.com NONSGML v1.0//EN
CALSCALE:GREGORIAN
METHOD:PUBLISH
BEGIN:VEVENT
UID:69e4e38343135
DTSTAMP:20260419T141531Z
DTSTART:20250221T170000Z
DTEND:20250221T200000Z
LOCATION:Schönebecker Straße 129b\,  39104 Magdeburg-Buckau\,  Germany Schönebecker Straße 129b\,  39104 Magdeburg-Buckau\,  Germany
SUMMARY:Gewächshauserkundung bei Nacht
DESCRIPTION:Nachts im Gewächshaus geht es auf die Suche nach geheimnisvoll
 en Gewächsen\,  nach den Schlafplätzen der Straußwachteln und besonderen
  Blüten. An mehreren Orten gibt es kurze Taschenlampenführungen. Altersem
 pfehlung: Erwachsene und Kinder/Jugendliche ab 10 Jahre.Eigene Taschenlampe
 n können mitgebracht werden.Einlass 18.00 – 20.00 Uhr.4\, 50€ ermäßi
 gt 3\, 00 €
URL:https://magdeboogie.de/events/gewaechshauserkundung-bei-nacht-2/
END:VEVENT
END:VCALENDAR