BEGIN:VCALENDAR
VERSION:2.0
PRODID:-//eventon.com NONSGML v1.0//EN
CALSCALE:GREGORIAN
METHOD:PUBLISH
BEGIN:VEVENT
UID:69e73539b30c1
DTSTAMP:20260421T082841Z
DTSTART:20250227T180000Z
DTEND:20250227T210000Z
LOCATION:OLi-Kino Magdeburg OLi-Kino Magdeburg
SUMMARY:Reisevortrag: Himalaya
DESCRIPTION:Pascal Violo HIMALAYA &#8211; Gipfel\,  Götter\,  Glücksmomen
 te Über mehrere Jahre hinweg taucht Pascal Violo immer wieder in die mysti
 sche Welt des Himalaya ein. Seine Reisen führen ihn über verschneite Päs
 se\,  auf eisige Berge und durch abgelegene Dörfer\,  vor allem aber zu de
 n Menschen dieser einzigartigen Region.In seiner neuen Live-Reportage erzä
 hlt[..]
URL:https://magdeboogie.de/events/reisevortrag-himalaya/
END:VEVENT
END:VCALENDAR