BEGIN:VCALENDAR
VERSION:2.0
PRODID:-//eventon.com NONSGML v1.0//EN
CALSCALE:GREGORIAN
METHOD:PUBLISH
BEGIN:VEVENT
UID:69e74c0f2a96c
DTSTAMP:20260421T100607Z
DTSTART:20250214T180000Z
DTEND:20250214T210000Z
LOCATION:Literaturhaus Magdeburg Literaturhaus Magdeburg
SUMMARY:Ich kann nicht mehr Tanzen\,  aber mein Gehstock hat Leomuster
DESCRIPTION:Die vielschichtige Künstlerin Sophie Lenglachner hat immer noc
 h viele Schichten\,  aber diese befinden sich jetzt unter einer dicken Deck
 e &#8230; aus Staub oder in Schränken und Kästen und Kommoden. Weggepackt
  für später. Ihre innerste Schicht macht auch immer noch Kunst\,  aber nu
 r mehr Teilzeit\,  denn Sophie ist 2022 an Long[..]
URL:https://magdeboogie.de/events/ich-kann-nicht-mehr-tanzen-aber-mein-gehstock-hat-leomuster/
END:VEVENT
END:VCALENDAR