BEGIN:VCALENDAR
VERSION:2.0
PRODID:-//eventon.com NONSGML v1.0//EN
CALSCALE:GREGORIAN
METHOD:PUBLISH
BEGIN:VEVENT
UID:69e8903cb77fb
DTSTAMP:20260422T090916Z
DTSTART:20250302T080000Z
DTEND:20250302T160000Z
LOCATION:Petriförder\,  39104 Magdeburg\,  Deutschland Petriförder\,  39104 Magdeburg\,  Deutschland
SUMMARY:Markt am Hafen beim Petriförder
DESCRIPTION:Unser sonntäglicher Markt am Hafen beim Petriförder lädt zum
  Schlendern und Shoppen ein. https://www.facebook.com/events/60304520913379
 8/?event_time_id=603045232467129
URL:https://magdeboogie.de/events/markt-am-hafen-beim-petrifoerder/
END:VEVENT
END:VCALENDAR