BEGIN:VCALENDAR
VERSION:2.0
PRODID:-//eventon.com NONSGML v1.0//EN
CALSCALE:GREGORIAN
METHOD:PUBLISH
BEGIN:VEVENT
UID:69e74a1a6886e
DTSTAMP:20260421T095746Z
DTSTART:20250428T160000Z
DTEND:20250428T173000Z
LOCATION:Breiter Weg 30\,  39104 Magdeburg\,  Deutschland Breiter Weg 30\,  39104 Magdeburg\,  Deutschland
SUMMARY:Füralle_Chor
DESCRIPTION:Beim Füralle_Chor probieren wir unsere Stimmen mit musikpädag
 ogische Übungen &#038; Spiel aus\,  singen/summen selbst erwählte Lieblin
 gslieder und schaffen eine wertschätzende\,  ermutigende Atmosphäre. Der 
 Chor verfolgt den Prinzipien der Community music &#8211; Bewegung (Auf Auge
 nhöhe\,  Partizipativ\,  Inklusiv u.v.m). Keine Proben am 17.3.25\,  14.4.
 25 une 21.4.25 https://www.facebook.com/events/984132099712667/?event_time_
 id=984132106379333
URL:https://magdeboogie.de/events/fueralle_chor-12/
END:VEVENT
END:VCALENDAR