BEGIN:VCALENDAR
VERSION:2.0
PRODID:-//eventon.com NONSGML v1.0//EN
CALSCALE:GREGORIAN
METHOD:PUBLISH
BEGIN:VEVENT
UID:69e8a36896464
DTSTAMP:20260422T103104Z
DTSTART:20250803T110000Z
DTEND:20250803T140000Z
LOCATION:Kiezladen TACHELES | Sternstr. 30\,  39104 MD
SUMMARY:NACHBARSCHAFTSBRUNCH IM TACHELES
DESCRIPTION:Jeden 1. Sonntag im Monat von 11-14 Uhr veranstalten wir von pl
 atz*machen einen Brunch (engl.: breakfast = frühstück + lunch = Mittagess
 en). Mit diesem Angebot wollen wir eine Gelegenheit schaffen\,  um einander
  in der Nachbarschaft besser kennen zu lernen. Alle können etwas mitbringe
 n (z.B. Aufstrich\,  Obst oder Kuchen) und beim[..]
URL:https://magdeboogie.de/events/nachbarschaftsbrunch-im-tacheles-8/var/ri-1.l-L1
END:VEVENT
END:VCALENDAR