BEGIN:VCALENDAR
VERSION:2.0
PRODID:-//eventon.com NONSGML v1.0//EN
CALSCALE:GREGORIAN
METHOD:PUBLISH
BEGIN:VEVENT
UID:69e7348814eff
DTSTAMP:20260421T082544Z
DTSTART:20251119T180000Z
DTEND:20251119T210000Z
LOCATION:Lemsdorfer Weg 25 39112 Magdeburg\,  Germany Lemsdorfer Weg 25\,  39112 Magdeburg\,  Germany
SUMMARY:"Ungewöhnliche Fußballspiele" - Ein Abend mit Erzählungen\,  Fotos und Videos in Magdeburg
DESCRIPTION:Abend mit Jörg Heinisch im Fanprojekt Magdeburg Ja\,  es geht 
 um Fußball &#8211; das sollte aber niemanden «abschrecken». Auch für Ni
 chtfußballinteressierte und Büchermuffel geeignet! Jörg Heinisch ist sei
 t 31 Jahren im Bereich der Fußballliteratur unterwegs – mal beschäftigt
  sich er mit Stimmung in südamerikanischen Stadien\,  mal mit Katastrophen
  rund um[..]
URL:https://magdeboogie.de/events/ungewoehnliche-fussballspiele-ein-abend-mit-erzaehlungen-fotos-und-videos-in-magdeburg/
END:VEVENT
END:VCALENDAR