BEGIN:VCALENDAR
VERSION:2.0
PRODID:-//eventon.com NONSGML v1.0//EN
CALSCALE:GREGORIAN
METHOD:PUBLISH
BEGIN:VEVENT
UID:69e771238eaec
DTSTAMP:20260421T124419Z
DTSTART:20250324T150000Z
DTEND:20250324T180000Z
LOCATION:einewelt haus Magdeburg einewelt haus Magdeburg
SUMMARY:Autoritär statt fair?
DESCRIPTION:#gemeinsambewegen Autoritär statt fair? – Wie demokratiefein
 dliche Positionen die Kultur der Vielfalt und der Solidarität bedrohen und
  was wir dagegen tun können. Autoritäre\,  rechtsextreme und antidemokrat
 ische Einstellungen sind auf dem Vormarsch und bedrohen zunehmend den Schut
 z des gesellschaftlichen Zusammenlebens. Doch was macht Macht so attraktiv?
  Woher kommt die Sehnsucht nach[..]
URL:https://magdeboogie.de/events/autoritaer-statt-fair/
END:VEVENT
END:VCALENDAR