BEGIN:VCALENDAR
VERSION:2.0
PRODID:-//eventon.com NONSGML v1.0//EN
CALSCALE:GREGORIAN
METHOD:PUBLISH
BEGIN:VEVENT
UID:69e88d46bf15f
DTSTAMP:20260422T085638Z
DTSTART:20250403T153000Z
DTEND:20250403T183000Z
LOCATION:Crops - vegane Küche Crops - vegane Küche
SUMMARY:🌸 Frühlingserwachen – Kreativ-Workshop im Crops Bistro 🌸
DESCRIPTION:🎨🌿 Am 3. April um 17:30 Uhr laden Luise Wenke &#038; Kirs
 ten Mengewein zu einem besonderen Kreativ-Workshop ins Crops Bistro ein! Wa
 s erwartet dich?🌼 Kreative Postkarten gestalten – mit Stempeln\,  Aqua
 rellfarben &#038; Blütenblättern🍫 Schokoeier &#038; Gebäck bestempeln
  – ja\,  das geht!✂️ Alternativ: Serviettenringe basteln für deine O
 ster-Tafel ✨ Ein Abend[..]
URL:https://magdeboogie.de/events/%f0%9f%8c%b8-fruehlingserwachen-kreativ-workshop-im-crops-bistro-%f0%9f%8c%b8/
END:VEVENT
END:VCALENDAR