BEGIN:VCALENDAR
VERSION:2.0
PRODID:-//eventon.com NONSGML v1.0//EN
CALSCALE:GREGORIAN
METHOD:PUBLISH
BEGIN:VEVENT
UID:69eb290679403
DTSTAMP:20260424T082542Z
DTSTART:20250322T130000Z
DTEND:20250322T160000Z
LOCATION:Kiezladen TACHELES | Sternstr. 30\,  39104 MD
SUMMARY:What the heck? - Medienkritik mit Zeitungstheater
DESCRIPTION:Wann: Samstag\,  22.03.2025\,  14:00-17:00 Uhr (@Tacheles\,  St
 ernstraße) (Der selbe Worskhop findet auch am Donnerstag\,  27. 3. 2025 st
 att!) Wann: Samstag\,  22.03.2025\,  14:00-17:00 Uhr (@Tacheles\,  Sternstr
 aße) (Der selbe Worskhop findet auch am Donnerstag\,  27. 3. 2025 statt!) 
 Die Workshopsprache ist deutsch/englisch\,  der Eintritt ist frei. Lasst un
 s die Methode Zeitungstheater (nach[..]
URL:https://magdeboogie.de/events/what-the-heck-medienkritik-mit-zeitungstheater/
END:VEVENT
END:VCALENDAR