BEGIN:VCALENDAR
VERSION:2.0
PRODID:-//eventon.com NONSGML v1.0//EN
CALSCALE:GREGORIAN
METHOD:PUBLISH
BEGIN:VEVENT
UID:69e8ac312c16f
DTSTAMP:20260422T110833Z
DTSTART:20250322T193000Z
DTEND:20250322T223000Z
LOCATION:Kunstkneipe NachDenker Kunstkneipe NachDenker
SUMMARY:Poetry meets Impro
DESCRIPTION:Wenn Lesebühne auf Improvisationstheater trifft\,  verschwinde
 n die Grenzen zwischen dem klassischen Literatur- und Theaterverständnis. 
 Mit Hilfe des Publikums entsteht an diesem Abend die einzigartige Stand-up-
 Lesung zum Thema „GRENZEN.LOS.LESEN“.Veranstaltung im Rahmen der Litera
 turtage Sachsen-Anhalt 2025: Grenzen.Los.Lesen.Infos zu den Landesliteratur
 tagen Sachsen-Anhalt 2025 unter https://landesliteraturtage2025.de/Die Land
 esliteraturtage 2025 werden durch das Land Sachsen-Anhalt gefördert.#lalit
 a25[..]
URL:https://magdeboogie.de/events/poetry-meets-impro/
END:VEVENT
END:VCALENDAR