BEGIN:VCALENDAR
VERSION:2.0
PRODID:-//eventon.com NONSGML v1.0//EN
CALSCALE:GREGORIAN
METHOD:PUBLISH
BEGIN:VEVENT
UID:69e734083d9c9
DTSTAMP:20260421T082336Z
DTSTART:20250628T160000Z
DTEND:20250628T190000Z
LOCATION:Datsche Datsche
SUMMARY:EROBIQUE @ DATSCHE - MAGDEBURG
DESCRIPTION:Carsten ‚Erobique‘ Meyer ist sein ihm eigenes Genre. Nachde
 m in den vergangenen 25 Jahren jeder Bus mit dem jeweils neuesten Disco-Rev
 ival an ihm vorbei und auch wieder zurückgefahren ist\,  kann man es nicht
  anders ausdrücken. Wenn es in den Metropolen heißt: „Erobique ist in d
 er Stadt“\,  freuen sich etliche tanzwütige[..]
URL:https://magdeboogie.de/events/erobique-datsche-magdeburg/
END:VEVENT
END:VCALENDAR