BEGIN:VCALENDAR
VERSION:2.0
PRODID:-//eventon.com NONSGML v1.0//EN
CALSCALE:GREGORIAN
METHOD:PUBLISH
BEGIN:VEVENT
UID:69e8a9be18b47
DTSTAMP:20260422T105806Z
DTSTART:20260215T160000Z
DTEND:20260215T190000Z
LOCATION:Moritzhof Moritzhof
SUMMARY:Songland Trio "Poetic Pop & Soul"
DESCRIPTION:Mit dem Songland Trio können Sarah Lipfert (voc)\,  Christoph 
 Reuter (p) und Stephan Bormann (git) gemeinsam ihrer großen Leidenschaft n
 achgehen und über stilistische Grenzen hinweg Songs schreiben\,  in denen 
 sich Einflüsse aus Soul\,  Pop\,  Jazz und dem Singer-Songwriter Genre wie
 derfinden. Ihre Texte sind voller Poesie\,  die Songs musikalische Momentau
 fnahmen. Im[..]
URL:https://magdeboogie.de/events/songland-trio-poetic-pop-soul/
END:VEVENT
END:VCALENDAR