BEGIN:VCALENDAR
VERSION:2.0
PRODID:-//eventon.com NONSGML v1.0//EN
CALSCALE:GREGORIAN
METHOD:PUBLISH
BEGIN:VEVENT
UID:69e88ac11bf7f
DTSTAMP:20260422T084553Z
DTSTART:20250517T150000Z
DTEND:20250517T210000Z
LOCATION:Dodendorfer Straße 65\,  39112 Magdeburg\,  Germany Dodendorfer Straße 65\,  39112 Magdeburg\,  Germany
SUMMARY:30 Jahre Technikmuseum: Lange Museumsnacht
DESCRIPTION:Das Technikmuseum feiert 30jähriges Bestehen. Ab dem 17. Mai 2
 025 bieten wir ein buntes Programm aus Lesungen\,  Vorführungen und Aktion
 en für Jung und Alt. Details folgen nach und nach.
URL:https://magdeboogie.de/events/30-jahre-technikmuseum-lange-museumsnacht/
END:VEVENT
END:VCALENDAR