BEGIN:VCALENDAR
VERSION:2.0
PRODID:-//eventon.com NONSGML v1.0//EN
CALSCALE:GREGORIAN
METHOD:PUBLISH
BEGIN:VEVENT
UID:69e734a6353ab
DTSTAMP:20260421T082614Z
DTSTART:20250428T130000Z
DTEND:20250428T160000Z
LOCATION:Taktonik - Bags and Accessories Taktonik - Bags and Accessories
SUMMARY:Workshop Upcyling für Nähprojekte
DESCRIPTION:Montag\,  28. April 2025\,  15.00 bis 18.00 UhrTAKTONIK &#8211;
  Philipp Märtens &#8211; c/o Basta Halberstädter Straße 51-53\,  39112 M
 agdeburg-Sudenburgmax. 5 PersonenAnmeldung über Instagram\,  Facebook oder
  Mail: p.maertens@taktonik.comTeilnahmebetrag: 5\, 00 Euro „Upcycling“\
 ,  „Urban Mining“ und andere “Buzz-Words“ sind in aller Munde\,  do
 ch was kann ich persönlich tun\,  um Ressourcen und vielleicht auch[..]
URL:https://magdeboogie.de/events/workshop-upcyling-fuer-naehprojekte/
END:VEVENT
END:VCALENDAR