BEGIN:VCALENDAR
VERSION:2.0
PRODID:-//eventon.com NONSGML v1.0//EN
CALSCALE:GREGORIAN
METHOD:PUBLISH
BEGIN:VEVENT
UID:69e77544e8d1d
DTSTAMP:20260421T130156Z
DTSTART:20250611T150000Z
DTEND:20250611T180000Z
LOCATION:Thiemstr. 7 39104 Magdeburg\,  Germany Thiemstr. 7\,  39104 Magdeburg\,  Germany
SUMMARY:Ausstellungseröffnung | „vergnügen der götter: ronald m. schernikau. leben und werk.“
DESCRIPTION:Die Ausstellung wurde im Rahmen eines studentischen Projekts an
  der Otto-von-Guericke-Universität von Dana Paschert konzipiert und nimmt 
 den Autor Ronald M. Schernikau\,  sein Leben und sein literarisches Schaffe
 n in den Blick. Die Eröffnung wird durch einen Kurzvortrag eingeleitet\,  
 der das Projekt vorstellt Weitere Infos folgen
URL:https://magdeboogie.de/events/ausstellungseroeffnung-vergnuegen-der-goetter-ronald-m-schernikau-leben-und-werk/
END:VEVENT
END:VCALENDAR