BEGIN:VCALENDAR
VERSION:2.0
PRODID:-//eventon.com NONSGML v1.0//EN
CALSCALE:GREGORIAN
METHOD:PUBLISH
BEGIN:VEVENT
UID:69e9ecc09921d
DTSTAMP:20260423T095616Z
DTSTART:20250604
DTEND:20250605
LOCATION:Puppentheater Magdeburg Puppentheater Magdeburg
SUMMARY:Kasper? Kasper! Ein Festival
DESCRIPTION:Ob&nbsp;Punch\, &nbsp;Pulcinella\, &nbsp;Guignol&nbsp;oder&nbsp
 ;Mester&nbsp;Jakel&nbsp;– in Europa hat der&nbsp;Kasper&nbsp;viele Namen 
 und Gesichter. Der gemeinsame Ursprung eint uns dabei ebenso wie das ähnli
 che Spielprinzip. Als das größte Puppentheater Deutschlands möchten wir 
 mit diesem Festival den Fokus auf das sowohl kulturpolitisch wichtige als a
 uch aus kulturhistorischer Perspektive bedeutsame&nbsp;Bestreben richten\, 
  das Kaspertheater als Spielprinzip in das Verzeichnis[..]
URL:https://magdeboogie.de/events/kasper-kasper-ein-festival/
END:VEVENT
END:VCALENDAR