BEGIN:VCALENDAR
VERSION:2.0
PRODID:-//eventon.com NONSGML v1.0//EN
CALSCALE:GREGORIAN
METHOD:PUBLISH
BEGIN:VEVENT
UID:69e8900e3e921
DTSTAMP:20260422T090830Z
DTSTART:20250610T170000Z
DTEND:20250610T184000Z
LOCATION:Steinkopfinsel 15\,  39126 Magdeburg\,  Deutschland Steinkopfinsel 15\,  39126 Magdeburg\,  Deutschland
SUMMARY:REIBHOLZ in Magdeburg
DESCRIPTION:Ozeanblauer Zug kommt nach Magdeburg &#8211; mit REIBHOLZ! Das 
 weltweit einzigartige Eisenbahntheater kommt mit einem dokumentarischen The
 aterstück über Binnenschifffahrt nach Steinkopfinsel Magdeburg. Das Beson
 dere: das Stück spielt vor und in den Waggons („Schiebewandwagen“). Vi
 er Güterwaggons stellen durch das Einbringen von typischen Frachtgütern w
 ie Holz\,  Salz\,  Mais und Zellulose Laderäume eines[..]
URL:https://magdeboogie.de/events/reibholz-in-magdeburg-4/
END:VEVENT
END:VCALENDAR