BEGIN:VCALENDAR
VERSION:2.0
PRODID:-//eventon.com NONSGML v1.0//EN
CALSCALE:GREGORIAN
METHOD:PUBLISH
BEGIN:VEVENT
UID:69e748de02e76
DTSTAMP:20260421T095230Z
DTSTART:20250702T160000Z
DTEND:20250702T215900Z
LOCATION:Insel der Jugend Insel der Jugend
SUMMARY:Home Sweet Home - Open Air
DESCRIPTION:Sommer\,  Sonne\,  Außendeck!Am Mittwoch feiern wir das Bergfe
 st mit: TwinpitchersLUEHR Forrest Funk von 18 bis 0 Uhr\,  Eintritt frei!
URL:https://magdeboogie.de/events/home-sweet-home-open-air-10/
END:VEVENT
END:VCALENDAR