BEGIN:VCALENDAR
VERSION:2.0
PRODID:-//eventon.com NONSGML v1.0//EN
CALSCALE:GREGORIAN
METHOD:PUBLISH
BEGIN:VEVENT
UID:69e61e83b6432
DTSTAMP:20260420T123931Z
DTSTART:20250927T080000Z
DTEND:20250927T150000Z
LOCATION:Kuckhoff Platz\,  39124 Magdeburg\,  Germany Kuckhoff Platz\,  39124 Magdeburg\,  Germany
SUMMARY:Workshop: Wege zum naturnahen Garten - Kooperation: IkuGa e.V & EU GREEN Biodiversity Lab der OVGU
DESCRIPTION:Workshop: Wege zum naturnahen Garten &#8211; In Kooperation: Ik
 uGa e.V &#038; EU GREEN Biodiversity Lab der OVGU Wollen Sie Ihren Garten i
 n ein blühendes\,  lebendiges Paradies verwandeln? Ein Ort\,  der nicht nu
 r bezaubert\,  sondern auch die Artenvielfalt fördert und zum wertvollen L
 ebensraum für Insekten\,  Vögel und Kleintiere wird? Gemeinsam mit[..]
URL:https://magdeboogie.de/events/workshop-wege-zum-naturnahen-garten/
END:VEVENT
END:VCALENDAR