BEGIN:VCALENDAR
VERSION:2.0
PRODID:-//eventon.com NONSGML v1.0//EN
CALSCALE:GREGORIAN
METHOD:PUBLISH
BEGIN:VEVENT
UID:69e76384995f7
DTSTAMP:20260421T114612Z
DTSTART:20250713T090000Z
DTEND:20250713T120000Z
LOCATION:Volksbad Buckau Volksbad Buckau
SUMMARY:🎀 Workshop für Frauen: Ropeflow – Bewegung\,  Rhythmus & Flow erleben
DESCRIPTION:🎀 Workshop für Frauen: Ropeflow – Bewegung\,  Rhythmus &#
 038; Flow erleben🗓 Sonntag\,  13. Juli 2025 · 🕚 11:00–15:00 Uhr
  Volksbad Buckau\,  Magdeburg💰 Teilnahmegebühr: 40 € (Zahlung bis 08
 .07.) Du willst dich mal wieder richtig spüren – kraftvoll\,  geschmeidi
 g und ganz bei dir? Dann probier Ropeflow! 🌊💃 In diesem 4-stündigen 
 Schnupperworkshop[..]
URL:https://magdeboogie.de/events/%f0%9f%8e%80-workshop-fuer-frauen-ropeflow-bewegung-rhythmus-flow-erleben/
END:VEVENT
END:VCALENDAR