BEGIN:VCALENDAR
VERSION:2.0
PRODID:-//eventon.com NONSGML v1.0//EN
CALSCALE:GREGORIAN
METHOD:PUBLISH
BEGIN:VEVENT
UID:69e75fe03c488
DTSTAMP:20260421T113040Z
DTSTART:20251101T190000Z
DTEND:20251101T220000Z
LOCATION:Karl-Schmidt-Straße 56\,  39104 Magdeburg\,  Germany Karl-Schmidt-Straße 56\,  39104 Magdeburg\,  Germany
SUMMARY:fem | tanz | bar
DESCRIPTION:for all female People&#038;FLINTA*-PersonenBeginn: 20.00 Uhr | 
 Ende: ca. 24.00 UhrEintritt: 6 Euro Unter dem Motto „love &#038; life“ 
 ausgelassen tanzen\,  bis die Turnschuhe qualmen und das Glitzerjäckchen v
 om Schweiß an den Armen klebt. Große Hits &#038; Klassiker – einfach ve
 rdammt gute Musik mit und ohne Firlefanz in tollem Ambiente[..]
URL:https://magdeboogie.de/events/fem-tanz-bar-3/
END:VEVENT
END:VCALENDAR