BEGIN:VCALENDAR
VERSION:2.0
PRODID:-//eventon.com NONSGML v1.0//EN
CALSCALE:GREGORIAN
METHOD:PUBLISH
BEGIN:VEVENT
UID:69e8a1e191185
DTSTAMP:20260422T102433Z
DTSTART:20260411T180000Z
DTEND:20260411T210000Z
LOCATION:Moritzplatz 1 39124 Magdeburg-Neustadt\,  Germany Moritzplatz 1\,  39124 Magdeburg-Neustadt\,  Germany
SUMMARY:Ansa Sauermann "GEHTS NOCH" - Konzert
DESCRIPTION:Seit der ersten Single „Foto“ im Jahr 2014 hat Ansa Sauerma
 nn drei Alben und 40 Songs veröffentlicht. Momentan stecken sie mitten in 
 den Aufnahmen zum vierten Album „Gehts Noch“\,  welches im März 2026 e
 rscheinen soll. Nachdem das letzte Album eher von sanfteren Tönen geprägt
  wurde\,  schraubt Ansa die Taktzahl auf[..]
URL:https://magdeboogie.de/events/ansa-sauermann-gehts-noch-konzert/
END:VEVENT
END:VCALENDAR