BEGIN:VCALENDAR
VERSION:2.0
PRODID:-//eventon.com NONSGML v1.0//EN
CALSCALE:GREGORIAN
METHOD:PUBLISH
BEGIN:VEVENT
UID:69e7479ca87e0
DTSTAMP:20260421T094708Z
DTSTART:20250930T173000Z
DTEND:20250930T190000Z
LOCATION:Breiter Weg 109\,  39104 Magdeburg\,  Germany Breiter Weg 109\,  39104 Magdeburg\,  Germany
SUMMARY:Autorenlesung: Wir sind anders
DESCRIPTION:In Kooperation mit der Rosa Luxemburg Stiftung Sachsen-Anhalt l
 iest Annette Schuhmann aus ihrem neu erschienenen Buch »Wir sind anders!«
  vor.Moderation: Eva von Angern\,  MdL ￼ ￼ Meldungsdatum: 25.09.2025 An
 nette Schuhmann stellt ihr Buch „Wir sind anders“ vor Gibt es ein beson
 deres Selbstverständnis von Frauen in Ostdeutschland? Annette Schuhmanns n
 eues Buch[..]
URL:https://magdeboogie.de/events/autorenlesung-wir-sind-anders/
END:VEVENT
END:VCALENDAR